BEGIN:VCALENDAR
VERSION:2.0
PRODID:-//Arrowsmith Leather - ECPv6.15.13//NONSGML v1.0//EN
CALSCALE:GREGORIAN
METHOD:PUBLISH
X-ORIGINAL-URL:http://www.arrowsmithleather.com
X-WR-CALDESC:Events for Arrowsmith Leather
REFRESH-INTERVAL;VALUE=DURATION:PT1H
X-Robots-Tag:noindex
X-PUBLISHED-TTL:PT1H
BEGIN:VTIMEZONE
TZID:UTC
BEGIN:STANDARD
TZOFFSETFROM:+0000
TZOFFSETTO:+0000
TZNAME:UTC
DTSTART:20220101T000000
END:STANDARD
END:VTIMEZONE
BEGIN:VEVENT
DTSTART;TZID=UTC:20230701T100000
DTEND;TZID=UTC:20230703T180000
DTSTAMP:20260421T172455
CREATED:20230613T143744Z
LAST-MODIFIED:20230613T143837Z
UID:5629-1688205600-1688407200@www.arrowsmithleather.com
SUMMARY:Artfest 2023
DESCRIPTION:Artfest Kingston takes place July 1-3\, 2023 in beautiful City Park. \nThe event includes 150+ artists exhibiting paintings\, pottery\, woodcraft\, glass art\, metal arts\, jewelry\, clothing\, gourmet food\, body care\, candles and more! \nFree admission.
URL:http://www.arrowsmithleather.com/event/artfest-2023/
LOCATION:Artfest\, City Park Kingston\, ON\, Canada
CATEGORIES:Outdoor Show
ATTACH;FMTTYPE=image/png:http://www.arrowsmithleather.com/wp-content/uploads/2023/06/Artfest-23.png
END:VEVENT
END:VCALENDAR