BEGIN:VCALENDAR
VERSION:2.0
PRODID:-//Arrowsmith Leather - ECPv6.15.13//NONSGML v1.0//EN
CALSCALE:GREGORIAN
METHOD:PUBLISH
X-WR-CALNAME:Arrowsmith Leather
X-ORIGINAL-URL:http://www.arrowsmithleather.com
X-WR-CALDESC:Events for Arrowsmith Leather
REFRESH-INTERVAL;VALUE=DURATION:PT1H
X-Robots-Tag:noindex
X-PUBLISHED-TTL:PT1H
BEGIN:VTIMEZONE
TZID:UTC
BEGIN:STANDARD
TZOFFSETFROM:+0000
TZOFFSETTO:+0000
TZNAME:UTC
DTSTART:20210101T000000
END:STANDARD
END:VTIMEZONE
BEGIN:VEVENT
DTSTART;TZID=UTC:20220903T100000
DTEND;TZID=UTC:20220905T170000
DTSTAMP:20260425T132540
CREATED:20220707T173316Z
LAST-MODIFIED:20220720T134455Z
UID:5348-1662199200-1662397200@www.arrowsmithleather.com
SUMMARY:Sundance Artisan Show 2022
DESCRIPTION:LABOUR DAY WEEKEND 2022\nAlways free entry — Always Labour Day Weekend — All one location \n\nCelebrating its 16th year\, Sundance Studio Tour is an Artisan Show held in Maberly\, Ontario. 40 artists converge at the corner of Hwy 7 and County Rd 36\, along the beautiful Fall River\, to present to you their latest creations. The venue gives visitors the opportunity to stroll along the booths of the artists\, sit along the river\, compare what is offered and make a choice out of all the beautiful works. We welcome approximately 3000 visitors at the hub of cottage country in the ‘land of lakes’.
URL:http://www.arrowsmithleather.com/event/sundance-artisan-show-2022/
LOCATION:126 MABERLY-ELPHIN RD (COUNTY RD 36)\, ON\, Canada
CATEGORIES:Outdoor Show
ATTACH;FMTTYPE=image/png:http://www.arrowsmithleather.com/wp-content/uploads/2022/07/Sundance-22-Poster.png
END:VEVENT
END:VCALENDAR