BEGIN:VCALENDAR
VERSION:2.0
PRODID:-//Arrowsmith Leather - ECPv6.15.13//NONSGML v1.0//EN
CALSCALE:GREGORIAN
METHOD:PUBLISH
X-ORIGINAL-URL:http://www.arrowsmithleather.com
X-WR-CALDESC:Events for Arrowsmith Leather
REFRESH-INTERVAL;VALUE=DURATION:PT1H
X-Robots-Tag:noindex
X-PUBLISHED-TTL:PT1H
BEGIN:VTIMEZONE
TZID:UTC
BEGIN:STANDARD
TZOFFSETFROM:+0000
TZOFFSETTO:+0000
TZNAME:UTC
DTSTART:20220101T000000
END:STANDARD
END:VTIMEZONE
BEGIN:VEVENT
DTSTART;TZID=UTC:20230902T100000
DTEND;TZID=UTC:20230904T170000
DTSTAMP:20260421T160117
CREATED:20230727T151140Z
LAST-MODIFIED:20230727T154554Z
UID:5665-1693648800-1693846800@www.arrowsmithleather.com
SUMMARY:Sundance Artists Fair 2023
DESCRIPTION:40 Artists and artisans along a river. \nFriday September 2nd   10 – 5\nSaturday September 3rd   10 – 5\nSunday September 4th    10 – 2 \nMayberly\, ON 1hr West of Ottawa \nhttps://www.sundancestudio.ca/
URL:http://www.arrowsmithleather.com/event/5665/
LOCATION:126 MABERLY-ELPHIN RD (COUNTY RD 36)\, ON\, Canada
CATEGORIES:Outdoor Show
ATTACH;FMTTYPE=image/jpeg:http://www.arrowsmithleather.com/wp-content/uploads/2023/07/Sundance-23.jpg
END:VEVENT
END:VCALENDAR